BEGIN:VCALENDAR
VERSION:2.0
PRODID:-//Broadway Here and There - Theatre Around the Globe - ECPv5.16.4//NONSGML v1.0//EN
CALSCALE:GREGORIAN
METHOD:PUBLISH
X-WR-CALNAME:Broadway Here and There - Theatre Around the Globe
X-ORIGINAL-URL:https://broadwayhereandthere.com
X-WR-CALDESC:Events for Broadway Here and There - Theatre Around the Globe
BEGIN:VTIMEZONE
TZID:America/New_York
BEGIN:DAYLIGHT
TZOFFSETFROM:-0500
TZOFFSETTO:-0400
TZNAME:EDT
DTSTART:20220313T070000
END:DAYLIGHT
BEGIN:STANDARD
TZOFFSETFROM:-0400
TZOFFSETTO:-0500
TZNAME:EST
DTSTART:20221106T060000
END:STANDARD
END:VTIMEZONE
BEGIN:VEVENT
DTSTART;VALUE=DATE:20220605
DTEND;VALUE=DATE:20220606
DTSTAMP:20260424T070111
CREATED:20220523T191147Z
LAST-MODIFIED:20220523T192023Z
UID:20447-1654387200-1654473599@broadwayhereandthere.com
SUMMARY:Wizard of Oz: Judy Garland 100 Years Over The Rainbow in Theater June 5 and June 6
DESCRIPTION:In celebration of what would have been Judy Garland’s 100th birthday\, join fans across the county for a special showing of The Wizard of Oz – featuring a rarely seen extended musical number! \nIn this classic musical fantasy\, Judy Garland stars as Dorothy Gale\, a young Kansas farm girl who dreams of a land “somewhere over the rainbow.” Dorothy’s dream comes true when she\, her dog Toto\, and her family’s house are transported by a tornado to a bright and magical world unlike anything she has seen before. Unfortunately\, she makes a mortal enemy of a wicked witch when the house falls on the hag’s sister. Now\, befriended by a scarecrow without a brain\, a tin man with no heart and a cowardly lion–and protected by a pair of enchanted ruby slippers–Dorothy sets off along a yellow brick road for the Emerald City to beseech the all-powerful Wizard of Oz for his help to return home. \n— >> Find a theater in your area! \nCast:\nJudy Garland\nFrank Morgan\nRay Bolger\nBert Lahr\nJack Haley\nBillie Burke\nClara Bandick\nMargaret Hamilton\nCharlie Grapewin \n\n \n\n\n\n\n \n 
URL:https://broadwayhereandthere.com/event/wizard-of-oz-judy-garland-100-years-over-the-rainbow-in-theater-june-5-and-june-6/2022-06-05/
CATEGORIES:All,Movies
ATTACH;FMTTYPE=image/jpeg:https://broadwayhereandthere.com/wp-content/uploads/2022/05/broadway_here_and_there_wizard_of_oz_july_garland_100_years.jpg
END:VEVENT
END:VCALENDAR