BEGIN:VCALENDAR
VERSION:2.0
PRODID:-//Broadway Here and There - Theatre Around the Globe - ECPv5.16.4//NONSGML v1.0//EN
CALSCALE:GREGORIAN
METHOD:PUBLISH
X-WR-CALNAME:Broadway Here and There - Theatre Around the Globe
X-ORIGINAL-URL:https://broadwayhereandthere.com
X-WR-CALDESC:Events for Broadway Here and There - Theatre Around the Globe
BEGIN:VTIMEZONE
TZID:America/New_York
BEGIN:DAYLIGHT
TZOFFSETFROM:-0500
TZOFFSETTO:-0400
TZNAME:EDT
DTSTART:20270314T070000
END:DAYLIGHT
BEGIN:STANDARD
TZOFFSETFROM:-0400
TZOFFSETTO:-0500
TZNAME:EST
DTSTART:20271107T060000
END:STANDARD
END:VTIMEZONE
BEGIN:VEVENT
DTSTART;VALUE=DATE:20270623
DTEND;VALUE=DATE:20270726
DTSTAMP:20260421T042828
CREATED:20260208T033232Z
LAST-MODIFIED:20260208T033232Z
UID:37474-1813708800-1816559999@broadwayhereandthere.com
SUMMARY:Wicked - Houston\, TX
DESCRIPTION:June 23 thru July 25\, 2027 \nWicked\, the Broadway sensation\, looks at what happened in the Land of Oz…but from a different angle. Long before Dorothy arrives\, there is another girl\, born with emerald-green skin—smart\, fiery\, misunderstood\, and possessing an extraordinary talent. When she meets a bubbly blonde who is exceptionally popular\, their initial rivalry turns into the unlikeliest of friendships…until the world decides to call one “good\,” and the other one “wicked.” \nVisually stunning\, Wicked boasts a soaring score from Stephen Schwartz (Godspell\, Pippin) that includes the hits “Defying Gravity\,” “Popular” and “For Good\, Tony Award-winning sets and costumes and some of the most gravity-defying moments on the Great White Way. Wicked has been hailed by The New York Times as “the defining musical of the decade.” \n— >>  Tickets and Information at the Hobby Center for the Performing Arts \n  \nWicked on Broadway Links:\nWebsite  ||  Wicked on Tour  ||  Facebook  ||  Instagram  ||  YouTube \n\nHobby Center for the Performing Arts Links:\nWebsite ||  Facebook  ||  Instagram \n\n 
URL:https://broadwayhereandthere.com/event/wicked-houston-tx-2/
LOCATION:Texas – The Hobby Center for the Performing Arts\, 800 Bagby Street\, Houston\, TX\, 77002\, United States
CATEGORIES:All,Broadway on Tour,Performing Arts,Texas,Theatre,United States
ATTACH;FMTTYPE=image/jpeg:https://broadwayhereandthere.com/wp-content/uploads/2026/01/brodway_here_and_there_wicked_tour.jpg
END:VEVENT
END:VCALENDAR