BEGIN:VCALENDAR
VERSION:2.0
PRODID:-//Broadway Here and There - Theatre Around the Globe - ECPv5.16.4//NONSGML v1.0//EN
CALSCALE:GREGORIAN
METHOD:PUBLISH
X-WR-CALNAME:Broadway Here and There - Theatre Around the Globe
X-ORIGINAL-URL:https://broadwayhereandthere.com
X-WR-CALDESC:Events for Broadway Here and There - Theatre Around the Globe
BEGIN:VTIMEZONE
TZID:America/New_York
BEGIN:DAYLIGHT
TZOFFSETFROM:-0500
TZOFFSETTO:-0400
TZNAME:EDT
DTSTART:20260308T070000
END:DAYLIGHT
BEGIN:STANDARD
TZOFFSETFROM:-0400
TZOFFSETTO:-0500
TZNAME:EST
DTSTART:20261101T060000
END:STANDARD
END:VTIMEZONE
BEGIN:VEVENT
DTSTART;VALUE=DATE:20260609
DTEND;VALUE=DATE:20260615
DTSTAMP:20260421T042939
CREATED:20260219T033956Z
LAST-MODIFIED:20260219T034112Z
UID:37496-1780963200-1781481599@broadwayhereandthere.com
SUMMARY:The Outsiders - Grand Rapids\, MI
DESCRIPTION:June 9 thru June 14\, 2026 \nIn Tulsa\, Oklahoma\, 1967\, the hardened hearts and aching souls of Ponyboy Curtis\, Johnny Cade\, and their chosen family of “outsiders” are in a fight for survival and a quest for purpose in a world that may never accept them. A story of the bonds that brothers share and the hopes we all hold on to\, this gripping new musical reinvigorates the timeless tale of “haves and have nots\,” of protecting what’s yours and fighting for what could be. \n— >> Tickets and Information at DeVos Performance Hall \n  \nThe Outsiders Links:\nWebsite || Facebook || Instagram  ||  TikTok\n\nDeVos Performance Hall Links:\nWebsite  ||  Facebook ||  Instagram  ||  YouTube  ||  TikTok \n 
URL:https://broadwayhereandthere.com/event/the-outsiders-grand-rapids-mi/
LOCATION:Michigan – DeVos Performance Hall\, 303 Monroe Ave NW\, Grand Rapids\, MI\, 49503\, United States
CATEGORIES:All,Broadway on Tour,Michigan,Performing Arts,Theatre,United States
ATTACH;FMTTYPE=image/jpeg:https://broadwayhereandthere.com/wp-content/uploads/2023/08/broadway_here_and_there_the_outsiders_musical.jpg
END:VEVENT
END:VCALENDAR