BEGIN:VCALENDAR
VERSION:2.0
PRODID:-//Broadway Here and There - Theatre Around the Globe - ECPv5.16.4//NONSGML v1.0//EN
CALSCALE:GREGORIAN
METHOD:PUBLISH
X-WR-CALNAME:Broadway Here and There - Theatre Around the Globe
X-ORIGINAL-URL:https://broadwayhereandthere.com
X-WR-CALDESC:Events for Broadway Here and There - Theatre Around the Globe
BEGIN:VTIMEZONE
TZID:America/New_York
BEGIN:DAYLIGHT
TZOFFSETFROM:-0500
TZOFFSETTO:-0400
TZNAME:EDT
DTSTART:20260308T070000
END:DAYLIGHT
BEGIN:STANDARD
TZOFFSETFROM:-0400
TZOFFSETTO:-0500
TZNAME:EST
DTSTART:20261101T060000
END:STANDARD
END:VTIMEZONE
BEGIN:VEVENT
DTSTART;VALUE=DATE:20260327
DTEND;VALUE=DATE:20260328
DTSTAMP:20260422T121211
CREATED:20260131T032510Z
LAST-MODIFIED:20260204T023426Z
UID:37194-1774569600-1774655999@broadwayhereandthere.com
SUMMARY:The Lost Boys - New York\, NY - Previews Begin
DESCRIPTION:Palace Theatre\nPreviews Begin:  March 27\, 2026\nOpens:  April 26\, 2026 \nWelcome to Santa Carla. Perfect weather. Beautiful beaches. And a charming boardwalk…as long as you ignore all the “Missing” posters. \nWhen a mother and her two teenage sons move to town in desperate need of a fresh start\, they soon uncover the darker side of this sunny coastal community. While Lucy tries to piece her family’s life back together\, Michael keeps pulling away in search of belonging. As he finds connection with a local rock band and its charismatic leader\, his younger brother Sam comes face-to-face with a terrifying reality: When night falls\, Michael’s new friends are even more dangerous than they first appeared.   \n— >> Tickets and Information at The Lost Boys \n  \nThe Lost Boys Links:\nWebsite  ||  Facebook  ||  Instagram  ||  YouTube  ||  TikTok \n\n\n\n\n\n\n \n&nbsp;
URL:https://broadwayhereandthere.com/event/the-lost-boys-new-york-ny-previews-begin/
LOCATION:New York – Palace Theatre\, 1564 Broadway\, New York\, NY\, 10036\, United States
ATTACH;FMTTYPE=image/jpeg:https://broadwayhereandthere.com/wp-content/uploads/2026/01/broadway_here_and_there_the_lost_boys.jpg
GEO:40.7588889;-73.9845512
X-APPLE-STRUCTURED-LOCATION;VALUE=URI;X-ADDRESS=New York – Palace Theatre 1564 Broadway New York NY 10036 United States;X-APPLE-RADIUS=500;X-TITLE=1564 Broadway:geo:-73.9845512,40.7588889
END:VEVENT
END:VCALENDAR