BEGIN:VCALENDAR
VERSION:2.0
PRODID:-//Broadway Here and There - Theatre Around the Globe - ECPv5.16.4//NONSGML v1.0//EN
CALSCALE:GREGORIAN
METHOD:PUBLISH
X-WR-CALNAME:Broadway Here and There - Theatre Around the Globe
X-ORIGINAL-URL:https://broadwayhereandthere.com
X-WR-CALDESC:Events for Broadway Here and There - Theatre Around the Globe
BEGIN:VTIMEZONE
TZID:America/New_York
BEGIN:DAYLIGHT
TZOFFSETFROM:-0500
TZOFFSETTO:-0400
TZNAME:EDT
DTSTART:20250309T070000
END:DAYLIGHT
BEGIN:STANDARD
TZOFFSETFROM:-0400
TZOFFSETTO:-0500
TZNAME:EST
DTSTART:20251102T060000
END:STANDARD
END:VTIMEZONE
BEGIN:VEVENT
DTSTART;VALUE=DATE:20251117
DTEND;VALUE=DATE:20251118
DTSTAMP:20260425T001224
CREATED:20251030T032624Z
LAST-MODIFIED:20251030T033137Z
UID:36937-1763337600-1763423999@broadwayhereandthere.com
SUMMARY:The 25th Annual Putman County Spelling Bee - New York\, NY - Opens
DESCRIPTION:November 7\, 2025 thru February 15\, 2026 \nAs contestants white-knuckle adolescence and the heat of competition\, their emotions run from A to Z — but they step up to the mic anyway because they love spelling\, and because being a champion could solve everything. \nWith music and lyrics by Tony Award® winner William Finn\, a book by Tony Award® winner Rachel Sheinkin\, and new direction and choreography by Danny Mefford\, Spelling Bee is about the little wins that carry us through life’s many awkward spells. \n— >> Tickets and Information at The 25th Annual Putman County Spelling Bee \nCast:\nPhilippe Arroyo\, Autumn Best\, Leana Rae Concepcion\, Justin Cooley\, Lilli Cooper\, Jason Kravits\, Matt Manuel\, Kevin McHale\, Jasmine Amy Rogers \nThe 25th Annual Putman County Spelling Bee Links:\nWebsite  ||  Facebook  || Instagram  ||  TikTok  ||  YouTube \nNew World Stages 3 Links:\nWebsite  ||  Facebook  ||  Instagram \n\n 
URL:https://broadwayhereandthere.com/event/the-25th-annual-putman-county-spelling-bee-new-york-ny-opens/
LOCATION:New York – New World Stages 3\, 340 W 50th St\, New York\, NY\, 10019\, United States
CATEGORIES:All,Broadway Here and There,New York,Performing Arts,Theatre
ATTACH;FMTTYPE=image/jpeg:https://broadwayhereandthere.com/wp-content/uploads/2025/10/broadway_here_and_there_putnam_county_spelling_bee_off_broadway.jpg
END:VEVENT
END:VCALENDAR