BEGIN:VCALENDAR
VERSION:2.0
PRODID:-//Broadway Here and There - Theatre Around the Globe - ECPv5.16.4//NONSGML v1.0//EN
CALSCALE:GREGORIAN
METHOD:PUBLISH
X-WR-CALNAME:Broadway Here and There - Theatre Around the Globe
X-ORIGINAL-URL:https://broadwayhereandthere.com
X-WR-CALDESC:Events for Broadway Here and There - Theatre Around the Globe
BEGIN:VTIMEZONE
TZID:America/New_York
BEGIN:DAYLIGHT
TZOFFSETFROM:-0500
TZOFFSETTO:-0400
TZNAME:EDT
DTSTART:20220313T070000
END:DAYLIGHT
BEGIN:STANDARD
TZOFFSETFROM:-0400
TZOFFSETTO:-0500
TZNAME:EST
DTSTART:20221106T060000
END:STANDARD
END:VTIMEZONE
BEGIN:VEVENT
DTSTART;VALUE=DATE:20221211
DTEND;VALUE=DATE:20221212
DTSTAMP:20260424T131107
CREATED:20220515T012530Z
LAST-MODIFIED:20230621T012057Z
UID:18593-1670716800-1670803199@broadwayhereandthere.com
SUMMARY:Some Like It Hot - New York\, NY - Opens
DESCRIPTION:Shubert Theatre \nPreviews:  November 1\, 2022\nOpens:  December 11\, 2022\nTickets thru January 14\, 2024 \n  \nSOME LIKE IT HOT brings one of Hollywood’s greatest comedies to new life on the Broadway stage. Don’t miss your chance to join this fast-paced\, sassy\, brassy cross-country romp\, as two best friends run for their lives – and find true love where they least expect it. \n— >> Tickets and Information at SOME LIKE IT HOT \n  \nSome Like It Hot Links:\nWebsite || Facebook || Twitter || Instagram \n  \nFeaturing a score by Marc Shaiman and Scott Wittman (Hairspray)\, a book by Matthew López (The Inheritance) and Amber Ruffin (“The Amber Ruffin Show”)\, and choreography and direction by Casey Nicholaw (The Book of Mormon)
URL:https://broadwayhereandthere.com/event/some-like-it-hot-new-york-ny-opens/
LOCATION:New York – Shubert Theatre\, 225 W 44th St\, New York\, NY\, 10036\, United States
CATEGORIES:All,Broadway,New York,Performing Arts,Theatre
ATTACH;FMTTYPE=image/jpeg:https://broadwayhereandthere.com/wp-content/uploads/2022/05/broadway_here_and_there_some_like_it_hot.jpg
GEO:40.7580922;-73.9871606
X-APPLE-STRUCTURED-LOCATION;VALUE=URI;X-ADDRESS=New York – Shubert Theatre 225 W 44th St New York NY 10036 United States;X-APPLE-RADIUS=500;X-TITLE=225 W 44th St:geo:-73.9871606,40.7580922
END:VEVENT
END:VCALENDAR