BEGIN:VCALENDAR
VERSION:2.0
PRODID:-//Broadway Here and There - Theatre Around the Globe - ECPv5.16.4//NONSGML v1.0//EN
CALSCALE:GREGORIAN
METHOD:PUBLISH
X-WR-CALNAME:Broadway Here and There - Theatre Around the Globe
X-ORIGINAL-URL:https://broadwayhereandthere.com
X-WR-CALDESC:Events for Broadway Here and There - Theatre Around the Globe
BEGIN:VTIMEZONE
TZID:America/New_York
BEGIN:DAYLIGHT
TZOFFSETFROM:-0500
TZOFFSETTO:-0400
TZNAME:EDT
DTSTART:20260308T070000
END:DAYLIGHT
BEGIN:STANDARD
TZOFFSETFROM:-0400
TZOFFSETTO:-0500
TZNAME:EST
DTSTART:20261101T060000
END:STANDARD
END:VTIMEZONE
BEGIN:VEVENT
DTSTART;VALUE=DATE:20260407
DTEND;VALUE=DATE:20260416
DTSTAMP:20260422T123453
CREATED:20260206T042748Z
LAST-MODIFIED:20260206T045531Z
UID:37434-1775520000-1776297599@broadwayhereandthere.com
SUMMARY:Six - Houston\, TX
DESCRIPTION:April 4 thru April 12\, 2026 \nFrom Tudor Queens to Pop Icons\, the SIX wives of Henry VIII take the microphone to remix five hundred years of historical heartbreak into a Euphoric Celebration of 21st century girl power! This new original musical is the global sensation that everyone is losing their head over! \nSIX won 23 awards in the 2021/2022 Broadway season\, including the Tony Award® for Best Original Score (Music and Lyrics) and the Outer Critics Circle Award for Best Musical. \nThe New York Times says SIX “TOTALLY RULES!” (Critic’s Pick) and The Washington Post hails SIX as “Exactly the kind of energizing\, inspirational illumination this town aches for!” \nThe SIX: LIVE ON OPENING NIGHT Broadway album debuted at Number 1 on the Billboard cast album charts and surpassed 6 Million streams in its first month. \n  \n— >>  Tickets and Information at the Hobby Center for the Performing Arts \n  \nSix: The Musical on Tour Links:\nTour Website || Facebook || Instagram  ||  YouTube  ||  TikTok \n \n\nHobby Center for the Performing Arts Links:\nWebsite ||  Facebook  ||  Instagram \n\n 
URL:https://broadwayhereandthere.com/event/six-houston-tx/
LOCATION:Texas – The Hobby Center for the Performing Arts\, 800 Bagby Street\, Houston\, TX\, 77002\, United States
CATEGORIES:All,Broadway on Tour,Performing Arts,Texas,Theatre,United States
ATTACH;FMTTYPE=image/jpeg:https://broadwayhereandthere.com/wp-content/uploads/2022/02/broadway_here_and_there_six_broadway_tour.jpg
END:VEVENT
END:VCALENDAR