BEGIN:VCALENDAR
VERSION:2.0
PRODID:-//Broadway Here and There - Theatre Around the Globe - ECPv5.16.4//NONSGML v1.0//EN
CALSCALE:GREGORIAN
METHOD:PUBLISH
X-WR-CALNAME:Broadway Here and There - Theatre Around the Globe
X-ORIGINAL-URL:https://broadwayhereandthere.com
X-WR-CALDESC:Events for Broadway Here and There - Theatre Around the Globe
BEGIN:VTIMEZONE
TZID:America/New_York
BEGIN:DAYLIGHT
TZOFFSETFROM:-0500
TZOFFSETTO:-0400
TZNAME:EDT
DTSTART:20220313T070000
END:DAYLIGHT
BEGIN:STANDARD
TZOFFSETFROM:-0400
TZOFFSETTO:-0500
TZNAME:EST
DTSTART:20221106T060000
END:STANDARD
END:VTIMEZONE
BEGIN:VEVENT
DTSTART;VALUE=DATE:20220721
DTEND;VALUE=DATE:20220722
DTSTAMP:20260422T165059
CREATED:20220427T202958Z
LAST-MODIFIED:20220427T203746Z
UID:18213-1658361600-1658447999@broadwayhereandthere.com
SUMMARY:"Prima Facie" in Theaters July 21
DESCRIPTION:Jodie Comer (Killing Eve) makes her West End debut in the UK premiere of Suzie Miller’s award-winning play. Justin Martin directs this solo piece\, captured live from the intimate Harold Pinter Theatre in London’s West End and released to cinemas nationwide on Thursday\, July 21. \nTessa is a young\, brilliant barrister. She has worked her way up from working class origins to be at the top of her game; defending; cross examining and winning. An unexpected event forces her to confront the lines where the patriarchal power of the law\, burden of proof and morals diverge. Prima Facie takes us to the heart of where emotion and experience collide with the rules of the game. \nI am delighted that our production of Prima Facie will be available to watch in cinemas across the world. Alongside our ticketing initiatives this is another way that we can make sure that this play is accessible to anyone that would like to see it. – Jodi Comer \n— >> Find a theater near you! \n  \nThe production is designed by Miriam Buether\, with lighting by Natasha Chivers\, sound by Ben and Max Ringham\, music composed by Rebecca Lucy Taylor and produced by James Bierman for Empire Street Productions. \nThis performance will be filmed live on stage in London’s West End\, at the Harold Pinter Theatre. \n  \nPrima Facie Links:\nWebsite  ||  Facebook  ||  Twitter  ||  Instagram \n 
URL:https://broadwayhereandthere.com/event/prima-facie-in-theaters-july-21/
CATEGORIES:All,Broadway Here and There,Movies,Performing Arts
ATTACH;FMTTYPE=image/jpeg:https://broadwayhereandthere.com/wp-content/uploads/2022/04/broadway_here_and_there_prima_facie.jpg
END:VEVENT
END:VCALENDAR