BEGIN:VCALENDAR
VERSION:2.0
PRODID:-//Broadway Here and There - Theatre Around the Globe - ECPv5.16.4//NONSGML v1.0//EN
CALSCALE:GREGORIAN
METHOD:PUBLISH
X-WR-CALNAME:Broadway Here and There - Theatre Around the Globe
X-ORIGINAL-URL:https://broadwayhereandthere.com
X-WR-CALDESC:Events for Broadway Here and There - Theatre Around the Globe
BEGIN:VTIMEZONE
TZID:America/New_York
BEGIN:DAYLIGHT
TZOFFSETFROM:-0500
TZOFFSETTO:-0400
TZNAME:EDT
DTSTART:20250309T070000
END:DAYLIGHT
BEGIN:STANDARD
TZOFFSETFROM:-0400
TZOFFSETTO:-0500
TZNAME:EST
DTSTART:20251102T060000
END:STANDARD
END:VTIMEZONE
BEGIN:VEVENT
DTSTART;VALUE=DATE:20251030
DTEND;VALUE=DATE:20251031
DTSTAMP:20260421T091749
CREATED:20251018T014605Z
LAST-MODIFIED:20251018T014605Z
UID:36897-1761782400-1761868799@broadwayhereandthere.com
SUMMARY:Oedipus - New York\, NY - Previews Begin
DESCRIPTION:The sold-out\, Olivier Award-winning thriller comes to Broadway!  Sophocles’ epic tragedy is transformed into an explosive political thriller. \nElection night.  The polls predict a landslide victory.  Everything is about to change. \n— > > Tickets and Information at Oedipus Website \n  \nOedipus Links:\nWebsite  ||  Facebook  ||  Instagram  ||  TikTok \n\n 
URL:https://broadwayhereandthere.com/event/oedipus-new-york-ny-previews-begin/
LOCATION:New York – Studio 54\, 254 West 54th Street\, New York\, NY\, 10019\, United States
CATEGORIES:All,Broadway,New York,Performing Arts,Theatre
ATTACH;FMTTYPE=image/jpeg:https://broadwayhereandthere.com/wp-content/uploads/2025/10/broadway_here_and_there_oedipus.jpg
GEO:40.7643532;-73.9837801
X-APPLE-STRUCTURED-LOCATION;VALUE=URI;X-ADDRESS=New York – Studio 54 254 West 54th Street New York NY 10019 United States;X-APPLE-RADIUS=500;X-TITLE=254 West 54th Street:geo:-73.9837801,40.7643532
END:VEVENT
END:VCALENDAR