BEGIN:VCALENDAR
VERSION:2.0
PRODID:-//Broadway Here and There - Theatre Around the Globe - ECPv5.16.4//NONSGML v1.0//EN
CALSCALE:GREGORIAN
METHOD:PUBLISH
X-WR-CALNAME:Broadway Here and There - Theatre Around the Globe
X-ORIGINAL-URL:https://broadwayhereandthere.com
X-WR-CALDESC:Events for Broadway Here and There - Theatre Around the Globe
BEGIN:VTIMEZONE
TZID:America/New_York
BEGIN:DAYLIGHT
TZOFFSETFROM:-0500
TZOFFSETTO:-0400
TZNAME:EDT
DTSTART:20250309T070000
END:DAYLIGHT
BEGIN:STANDARD
TZOFFSETFROM:-0400
TZOFFSETTO:-0500
TZNAME:EST
DTSTART:20251102T060000
END:STANDARD
END:VTIMEZONE
BEGIN:VEVENT
DTSTART;VALUE=DATE:20250906
DTEND;VALUE=DATE:20250907
DTSTAMP:20260424T065844
CREATED:20240502T023043Z
LAST-MODIFIED:20250306T014422Z
UID:35583-1757116800-1757203199@broadwayhereandthere.com
SUMMARY:Eva Nobelzada - Raleigh\, NC
DESCRIPTION:EVA NOBLEZADA won a Grammy and was nominated for a Tony for starring on Broadway as the original Euridice in Hadestown. It was Eva’s second Tony nomination in her first two Broadway roles\, following her earlier nod in the title role of Miss Saigon in 2017. \nEva also starred in Hadestown at the National Theatre in London and in the West End revivals of Miss Saigon and Les Misérables. Eva starred as Daisy in the world premiere musical adaptation of The Great Gatsby at Paper Mill Playhouse and Broadway. She was recently featured in the Amblin feature Easter Sunday and as the lead in the AppleTV+ animated film Luck. Previously\, she starred for director Diane Paragas in the acclaimed Sony Pictures film Yellow Rose. \n— > Tickets and Information at Theatre Raleigh \n  \nEva Nobelzada Links:\n Instagram \n  \nTheatre Raleigh Arts Center Links:\nWebsite  ||  Facebook   ||  Instagram ||  YouTube \n\n 
URL:https://broadwayhereandthere.com/event/eva-nobelzada-raleigh-nc/
LOCATION:North Carolina – Theatre Raleigh Arts Center\, 6638 Old Wake Forest Rd.\, Raleigh\, NC\, 27616\, United States
CATEGORIES:All,Music,North Carolina,Performing Arts,United States
ATTACH;FMTTYPE=image/jpeg:https://broadwayhereandthere.com/wp-content/uploads/2024/05/broadway_here_and_there_eva_noblezada.jpg
END:VEVENT
END:VCALENDAR