BEGIN:VCALENDAR
VERSION:2.0
PRODID:-//Broadway Here and There - Theatre Around the Globe - ECPv5.16.4//NONSGML v1.0//EN
CALSCALE:GREGORIAN
METHOD:PUBLISH
X-WR-CALNAME:Broadway Here and There - Theatre Around the Globe
X-ORIGINAL-URL:https://broadwayhereandthere.com
X-WR-CALDESC:Events for Broadway Here and There - Theatre Around the Globe
BEGIN:VTIMEZONE
TZID:America/New_York
BEGIN:DAYLIGHT
TZOFFSETFROM:-0500
TZOFFSETTO:-0400
TZNAME:EDT
DTSTART:20260308T070000
END:DAYLIGHT
BEGIN:STANDARD
TZOFFSETFROM:-0400
TZOFFSETTO:-0500
TZNAME:EST
DTSTART:20261101T060000
END:STANDARD
END:VTIMEZONE
BEGIN:VEVENT
DTSTART;VALUE=DATE:20260207
DTEND;VALUE=DATE:20260208
DTSTAMP:20260422T104810
CREATED:20250828T015620Z
LAST-MODIFIED:20260123T041344Z
UID:36850-1770422400-1770508799@broadwayhereandthere.com
SUMMARY:Dracula - London\, England - Previews Begin
DESCRIPTION:February 7 thru May 30\, 2026 \nDeep in the desolate wilderness stands a crumbling castle; a mysterious presence lurking within. For centuries\, Count Dracula has waited in hiding. Now\, this phantom is coming out of the shadows. As the Count sets his sights on a fresh target\, a new kind of terror begins – seductive\, unstoppable and dangerously addictive. \nFirst staged by Sydney Theatre Company in 2024\, visionary theatre-maker Kip Williams reunites with the genre-defying creative team behind the Olivier Award winning production of The Picture of Dorian Gray to take his groundbreaking style of cinetheatre to new\, heart pounding\, heights. \n— >> Tickets and Information at Dracula official website \n  \nDracula Links:\nWebsite ||  Facebook  ||  Instagram  ||  TikTok \n  \nNoel Coward Theatre Links:\nWebsite  ||  Facebook  || Instagram   \nCynthia Erivo Links:\nWebsite  ||  Instagram  ||  YouTube  ||  TikTok \n  \n\n 
URL:https://broadwayhereandthere.com/event/dracula-london-england/
LOCATION:London – Noël Coward Theatre\, 85-88 St Martin's Ln\, London\, WC2N 4AU\, United Kingdom
CATEGORIES:All,Broadway Here and There,London,Performing Arts,United Kingdon
ATTACH;FMTTYPE=image/jpeg:https://broadwayhereandthere.com/wp-content/uploads/2025/08/broadway_here_and_there_dragula_cynthia_erivo_london.jpg
END:VEVENT
END:VCALENDAR