BEGIN:VCALENDAR
VERSION:2.0
PRODID:-//Broadway Here and There - Theatre Around the Globe - ECPv5.16.4//NONSGML v1.0//EN
CALSCALE:GREGORIAN
METHOD:PUBLISH
X-WR-CALNAME:Broadway Here and There - Theatre Around the Globe
X-ORIGINAL-URL:https://broadwayhereandthere.com
X-WR-CALDESC:Events for Broadway Here and There - Theatre Around the Globe
BEGIN:VTIMEZONE
TZID:America/New_York
BEGIN:DAYLIGHT
TZOFFSETFROM:-0500
TZOFFSETTO:-0400
TZNAME:EDT
DTSTART:20250309T070000
END:DAYLIGHT
BEGIN:STANDARD
TZOFFSETFROM:-0400
TZOFFSETTO:-0500
TZNAME:EST
DTSTART:20251102T060000
END:STANDARD
END:VTIMEZONE
BEGIN:VEVENT
DTSTART;VALUE=DATE:20251116
DTEND;VALUE=DATE:20251117
DTSTAMP:20260424T225353
CREATED:20251030T022202Z
LAST-MODIFIED:20251030T022202Z
UID:36924-1763251200-1763337599@broadwayhereandthere.com
SUMMARY:Chess - New York\, NY - Opens
DESCRIPTION:ON BROADWAY THRU MAY 3\, 2026 \nCHESS\, a seductive showdown of love\, loyalty\, and power on a global stage. As two of the greatest chess players in the world compete for something beyond victory\, the woman between them is caught in a high-stakes battle of desire and devotion. \n— >> Tickets and Information on the CHESS website \n\nCAST:\nAaron Tveit\nLea Michele\nNicholas Christopher \n  \nChess Links:\nWebsite  ||  Facebook  || Instagram  ||  TikTok  ||  YouTube \n\n\n 
URL:https://broadwayhereandthere.com/event/chess-new-york-ny-opens/
LOCATION:New York – Imperial Theatre\, 249 W 45th St\, New York\, NY\, 10036\, United States
CATEGORIES:All,Broadway,New York,Performing Arts,Theatre
ATTACH;FMTTYPE=image/jpeg:https://broadwayhereandthere.com/wp-content/uploads/2025/10/broadway_here_and_there_chess.jpg
GEO:40.7590146;-73.9874373
X-APPLE-STRUCTURED-LOCATION;VALUE=URI;X-ADDRESS=New York – Imperial Theatre 249 W 45th St New York NY 10036 United States;X-APPLE-RADIUS=500;X-TITLE=249 W 45th St:geo:-73.9874373,40.7590146
END:VEVENT
END:VCALENDAR