BEGIN:VCALENDAR
VERSION:2.0
PRODID:-//Broadway Here and There - Theatre Around the Globe - ECPv5.16.4//NONSGML v1.0//EN
CALSCALE:GREGORIAN
METHOD:PUBLISH
X-WR-CALNAME:Broadway Here and There - Theatre Around the Globe
X-ORIGINAL-URL:https://broadwayhereandthere.com
X-WR-CALDESC:Events for Broadway Here and There - Theatre Around the Globe
BEGIN:VTIMEZONE
TZID:America/New_York
BEGIN:DAYLIGHT
TZOFFSETFROM:-0500
TZOFFSETTO:-0400
TZNAME:EDT
DTSTART:20260308T070000
END:DAYLIGHT
BEGIN:STANDARD
TZOFFSETFROM:-0400
TZOFFSETTO:-0500
TZNAME:EST
DTSTART:20261101T060000
END:STANDARD
END:VTIMEZONE
BEGIN:VEVENT
DTSTART;VALUE=DATE:20260108
DTEND;VALUE=DATE:20260109
DTSTAMP:20260424T104704
CREATED:20251204T042633Z
LAST-MODIFIED:20251204T042809Z
UID:37011-1767830400-1767916799@broadwayhereandthere.com
SUMMARY:Bug - New York\, NY - Opens
DESCRIPTION:Samuel J. Friedman Theatre\nPreviews Begin:  December 16\, 2025\nOpens:  January 8\, 2026 \nWhat begins as a simple connection between two broken people in a seedy Oklahoma motel room twists into something far more dangerous. When reality slips out of grasp\, paranoia\, delusion\, and conspiracy take over in this sexy psychological thriller. \n— > > Tickets and Information at the Manhattan Theatre Club \n  \nManhattan Theatre Club Links:\nWebsite  ||  Facebook  ||  Instagram  ||  YouTube  ||  TikTok \n  \n\n 
URL:https://broadwayhereandthere.com/event/bug-new-york-ny-opens/
LOCATION:New York – Samuel J. Friedman Theatre\, 261 W 47th St\, New York\, NY\, 10036\, United States
CATEGORIES:All,Broadway,New York,Performing Arts,Theatre,United States
ATTACH;FMTTYPE=image/jpeg:https://broadwayhereandthere.com/wp-content/uploads/2025/12/broadway_here_and_there_bug_manhattan_theatre_club.jpg
GEO:40.7603883;-73.9867173
X-APPLE-STRUCTURED-LOCATION;VALUE=URI;X-ADDRESS=New York – Samuel J. Friedman Theatre 261 W 47th St New York NY 10036 United States;X-APPLE-RADIUS=500;X-TITLE=261 W 47th St:geo:-73.9867173,40.7603883
END:VEVENT
END:VCALENDAR