BEGIN:VCALENDAR
VERSION:2.0
PRODID:-//Broadway Here and There - Theatre Around the Globe - ECPv5.16.4//NONSGML v1.0//EN
CALSCALE:GREGORIAN
METHOD:PUBLISH
X-WR-CALNAME:Broadway Here and There - Theatre Around the Globe
X-ORIGINAL-URL:https://broadwayhereandthere.com
X-WR-CALDESC:Events for Broadway Here and There - Theatre Around the Globe
BEGIN:VTIMEZONE
TZID:America/New_York
BEGIN:DAYLIGHT
TZOFFSETFROM:-0500
TZOFFSETTO:-0400
TZNAME:EDT
DTSTART:20210314T070000
END:DAYLIGHT
BEGIN:STANDARD
TZOFFSETFROM:-0400
TZOFFSETTO:-0500
TZNAME:EST
DTSTART:20211107T060000
END:STANDARD
END:VTIMEZONE
BEGIN:VEVENT
DTSTART;VALUE=DATE:20210923
DTEND;VALUE=DATE:20210924
DTSTAMP:20260424T042515
CREATED:20210916T150257Z
LAST-MODIFIED:20210916T150752Z
UID:15105-1632355200-1632441599@broadwayhereandthere.com
SUMMARY:BROADWAY:  Chicken and Biscuits - Previews Begin
DESCRIPTION:Chicken and Biscuits \nCircle in the Square Theatre \nPreviews: September 23\, 2021\nOpens:  October 10\, 2021\nCloses: January 2\, 2021 \nChicken and biscuits Links:\nWebsite || Facebook || Twitter || Instagram \n\n 
URL:https://broadwayhereandthere.com/event/broadway-chicken-and-biscuits-previews-begin/
LOCATION:New York – Circle in the Square\, 235 W 50th Street\, New York\, NY\, 10019\, United States
CATEGORIES:All,Broadway,New York,Theatre
ATTACH;FMTTYPE=image/jpeg:https://broadwayhereandthere.com/wp-content/uploads/2021/06/broadway_here_and_there_chicken_and_biscuits.jpg
GEO:40.7619314;-73.985216
X-APPLE-STRUCTURED-LOCATION;VALUE=URI;X-ADDRESS=New York – Circle in the Square 235 W 50th Street New York NY 10019 United States;X-APPLE-RADIUS=500;X-TITLE=235 W 50th Street:geo:-73.985216,40.7619314
END:VEVENT
END:VCALENDAR