BEGIN:VCALENDAR
VERSION:2.0
PRODID:-//Broadway Here and There - Theatre Around the Globe - ECPv5.16.4//NONSGML v1.0//EN
CALSCALE:GREGORIAN
METHOD:PUBLISH
X-WR-CALNAME:Broadway Here and There - Theatre Around the Globe
X-ORIGINAL-URL:https://broadwayhereandthere.com
X-WR-CALDESC:Events for Broadway Here and There - Theatre Around the Globe
BEGIN:VTIMEZONE
TZID:America/New_York
BEGIN:DAYLIGHT
TZOFFSETFROM:-0500
TZOFFSETTO:-0400
TZNAME:EDT
DTSTART:20220313T070000
END:DAYLIGHT
BEGIN:STANDARD
TZOFFSETFROM:-0400
TZOFFSETTO:-0500
TZNAME:EST
DTSTART:20221106T060000
END:STANDARD
END:VTIMEZONE
BEGIN:VEVENT
DTSTART;VALUE=DATE:20220408
DTEND;VALUE=DATE:20220409
DTSTAMP:20260422T201241
CREATED:20211123T000829Z
LAST-MODIFIED:20211123T000829Z
UID:15888-1649376000-1649462399@broadwayhereandthere.com
SUMMARY:BROADWAY:  Beetlejuice - Returns
DESCRIPTION:Marquis Theatre \nReturns:  April 8\, 2022 \nBeetlejuice Links:\nWebsite || Facebook || Twitter || Instagram ||  YouTube
URL:https://broadwayhereandthere.com/event/broadway-beetlejuice-returns/
LOCATION:New York – Marquis Theatre\, 210 West 46th Street\, New York\, NY\, United States
CATEGORIES:All,Broadway,New York,Performing Arts,Theatre
ATTACH;FMTTYPE=image/jpeg:https://broadwayhereandthere.com/wp-content/uploads/2021/11/fanfarecafe_beetlejuice_broadway.jpg
GEO:40.7586594;-73.9856401
X-APPLE-STRUCTURED-LOCATION;VALUE=URI;X-ADDRESS=New York – Marquis Theatre 210 West 46th Street New York NY United States;X-APPLE-RADIUS=500;X-TITLE=210 West 46th Street:geo:-73.9856401,40.7586594
END:VEVENT
END:VCALENDAR