BEGIN:VCALENDAR
VERSION:2.0
PRODID:-//Broadway Here and There - Theatre Around the Globe - ECPv5.16.4//NONSGML v1.0//EN
CALSCALE:GREGORIAN
METHOD:PUBLISH
X-WR-CALNAME:Broadway Here and There - Theatre Around the Globe
X-ORIGINAL-URL:https://broadwayhereandthere.com
X-WR-CALDESC:Events for Broadway Here and There - Theatre Around the Globe
BEGIN:VTIMEZONE
TZID:America/New_York
BEGIN:DAYLIGHT
TZOFFSETFROM:-0500
TZOFFSETTO:-0400
TZNAME:EDT
DTSTART:20270314T070000
END:DAYLIGHT
BEGIN:STANDARD
TZOFFSETFROM:-0400
TZOFFSETTO:-0500
TZNAME:EST
DTSTART:20271107T060000
END:STANDARD
END:VTIMEZONE
BEGIN:VEVENT
DTSTART;VALUE=DATE:20270611
DTEND;VALUE=DATE:20270614
DTSTAMP:20260424T081045
CREATED:20260123T193149Z
LAST-MODIFIED:20260123T193149Z
UID:37091-1812672000-1812931199@broadwayhereandthere.com
SUMMARY:Beetlejuice - Atlanta\, GA
DESCRIPTION:June 11 thru June 13\, 2027 \nBased on Tim Burton’s dearly beloved film\, Beetlejuice tells the story of Lydia Deetz\, a strange and unusual teenager whose whole life changes when she meets a recently deceased couple and a demon with a thing for stripes. With an irreverent book\, an astonishing set\, and a score that’s out of this Netherworld\, Beetlejuice is “A FEAST FOR THE EYES AND SOUL!” (Entertainment Weekly). And under its uproarious surface (six feet under\, to be exact)\, it’s a remarkably touching show about family\, love\, and making the most of every Day-O! \n— >> Tickets and Information at The Fox Theater \n  \nBeetlejuice Links:\nWebsite  ||  Facebook  ||  Instagram  ||  YouTube  ||  TikTok \n  \nBroadway in Atlanta Links:\nWebsite || Facebook  ||  Instagram ||  YouTube \n  \nThe Fox Theatre Links:\nWebsite || Facebook  ||  Instagram  \n\n 
URL:https://broadwayhereandthere.com/event/beetlejuice-atlanta-ga/
LOCATION:Georgia – The Fox Theatre\, 660 Peachtree St NE\, Atlanta\, GA\, 30308\, United States
CATEGORIES:All,Broadway on Tour,Georgia,Performing Arts,Theatre,United States
ATTACH;FMTTYPE=image/jpeg:https://broadwayhereandthere.com/wp-content/uploads/2023/01/broadway_here_and_there_beetlejuice_broadway_tour_2023.jpg
END:VEVENT
END:VCALENDAR