BEGIN:VCALENDAR
VERSION:2.0
PRODID:-//Broadway Here and There - Theatre Around the Globe - ECPv5.16.4//NONSGML v1.0//EN
CALSCALE:GREGORIAN
METHOD:PUBLISH
X-WR-CALNAME:Broadway Here and There - Theatre Around the Globe
X-ORIGINAL-URL:https://broadwayhereandthere.com
X-WR-CALDESC:Events for Broadway Here and There - Theatre Around the Globe
BEGIN:VTIMEZONE
TZID:America/New_York
BEGIN:DAYLIGHT
TZOFFSETFROM:-0500
TZOFFSETTO:-0400
TZNAME:EDT
DTSTART:20240310T070000
END:DAYLIGHT
BEGIN:STANDARD
TZOFFSETFROM:-0400
TZOFFSETTO:-0500
TZNAME:EST
DTSTART:20241103T060000
END:STANDARD
END:VTIMEZONE
BEGIN:VEVENT
DTSTART;VALUE=DATE:20240518
DTEND;VALUE=DATE:20240519
DTSTAMP:20260424T214651
CREATED:20230803T020305Z
LAST-MODIFIED:20240412T194433Z
UID:33129-1715990400-1716076799@broadwayhereandthere.com
SUMMARY:Beaches the Musical - Calgary\, CAN - Previews Begin
DESCRIPTION:The timeless story of friendship. \nA new musical based on the best-selling novel which was made into the blockbuster film\, Beaches follows two extraordinary friends through 30 years of camaraderie\, laughter\, sorrow and love. Vivacious\, outlandish Cee Cee and beautiful\, privileged Bertie meet as children and become fast friends. From pen-pals to roommates to romantic rivals\, Cee Cee and Bertie’s oil-and-water friendship perseveres through even the most tragic trials. With a touching vulnerability\, Beaches exemplifies the triumph of the human spirit and the bonds of sisterhood. \n–>> Tickets and Information at Theatre Calgary \n  \nBeaches the Musical Links:\nWebsite  ||  Facebook  ||   Instagram  ||  TikTok\nTheatre Calgary Links:\nWebsite  ||  Facebook  ||  Twitter  ||  Instagram  ||  YouTube
URL:https://broadwayhereandthere.com/event/beaches-the-musical-calgary-can-previews-begin/
LOCATION:Canada – Theatre Calgary\, 220 9 Ave SE\, Calgary\, Alberta\, T2G 5C4\, Canada
CATEGORIES:All,Broadway Here and There,Canada,Performing Arts,Theatre
ATTACH;FMTTYPE=image/jpeg:https://broadwayhereandthere.com/wp-content/uploads/2023/08/broadway_here_and_there_beaches_the_musical.jpg
END:VEVENT
END:VCALENDAR