BEGIN:VCALENDAR
VERSION:2.0
PRODID:-//Broadway Here and There - Theatre Around the Globe - ECPv5.16.4//NONSGML v1.0//EN
CALSCALE:GREGORIAN
METHOD:PUBLISH
X-WR-CALNAME:Broadway Here and There - Theatre Around the Globe
X-ORIGINAL-URL:https://broadwayhereandthere.com
X-WR-CALDESC:Events for Broadway Here and There - Theatre Around the Globe
BEGIN:VTIMEZONE
TZID:America/New_York
BEGIN:DAYLIGHT
TZOFFSETFROM:-0500
TZOFFSETTO:-0400
TZNAME:EDT
DTSTART:20260308T070000
END:DAYLIGHT
BEGIN:STANDARD
TZOFFSETFROM:-0400
TZOFFSETTO:-0500
TZNAME:EST
DTSTART:20261101T060000
END:STANDARD
END:VTIMEZONE
BEGIN:VEVENT
DTSTART;VALUE=DATE:20260331
DTEND;VALUE=DATE:20260406
DTSTAMP:20260422T122508
CREATED:20260206T042206Z
LAST-MODIFIED:20260206T045609Z
UID:37431-1774915200-1775433599@broadwayhereandthere.com
SUMMARY:Back to the Future - Houston\, TX
DESCRIPTION:March 31 thru April 5\, 2026 \nGreat Scott! Back to the Future\, the beloved\, cinematic classic is now a Broadway musical with its destination set for Dallas in 2024. When Marty McFly finds himself transported back to 1955 in a time machine built by the eccentric scientist Doc Brown\, he accidentally changes the course of history. Now he’s in a race against time to fix the present\, escape the past\, and send himself… back to the future. Winner of the 2022 Olivier Award for Best New Musical\, when Back to the Future hits 88mph\, it’ll change musical theater history forever. \n  \n— >>  Tickets and Information at the Hobby Center for the Performing Arts \n  \nBack to the Future Links:\nWebsite || Facebook || Twitter || Instagram ||  TikTok \n \n\nHobby Center for the Performing Arts Links:\nWebsite ||  Facebook  ||  Instagram \n\n 
URL:https://broadwayhereandthere.com/event/back-to-the-future-houston-tx/
LOCATION:Texas – The Hobby Center for the Performing Arts\, 800 Bagby Street\, Houston\, TX\, 77002\, United States
CATEGORIES:All,Broadway on Tour,Performing Arts,Texas,Theatre,United States
ATTACH;FMTTYPE=image/jpeg:https://broadwayhereandthere.com/wp-content/uploads/2022/10/broadway_here_and_there_Back-To-The-Future.jpg
END:VEVENT
END:VCALENDAR