BEGIN:VCALENDAR
VERSION:2.0
PRODID:-//Broadway Here and There - Theatre Around the Globe - ECPv5.16.4//NONSGML v1.0//EN
CALSCALE:GREGORIAN
METHOD:PUBLISH
X-WR-CALNAME:Broadway Here and There - Theatre Around the Globe
X-ORIGINAL-URL:https://broadwayhereandthere.com
X-WR-CALDESC:Events for Broadway Here and There - Theatre Around the Globe
BEGIN:VTIMEZONE
TZID:America/New_York
BEGIN:DAYLIGHT
TZOFFSETFROM:-0500
TZOFFSETTO:-0400
TZNAME:EDT
DTSTART:20210314T070000
END:DAYLIGHT
BEGIN:STANDARD
TZOFFSETFROM:-0400
TZOFFSETTO:-0500
TZNAME:EST
DTSTART:20211107T060000
END:STANDARD
END:VTIMEZONE
BEGIN:VEVENT
DTSTART;VALUE=DATE:20211202
DTEND;VALUE=DATE:20211203
DTSTAMP:20260422T150747
CREATED:20210630T182839Z
LAST-MODIFIED:20220306T231211Z
UID:14289-1638403200-1638489599@broadwayhereandthere.com
SUMMARY:"Annie" - NBC Television
DESCRIPTION:“The Sun’ll Come Out Tomorrow” this holiday season as NBC has found its next live musical event: the beloved seven-time Tony Award-winning hit Annie Live!  Airing December 2 \n  \nCast:\nCelina Smith\nHarry Connick\, Jr.\nTaraji P. Henson\nMegan Hilty\nTituss Burgess\nNicole Scherzinger\nAlan Toy \n-> >  More information on NBC \nAnnie Live! features Academy Award-nominated actress Taraji P. Henson as the musical’s infamous queen of mean\, Miss Hannigan. Henson will play opposite Celina Smith in the titular role of Annie. Already a triple threat at the age of 12\, Smith was selected in a nationwide casting search and can currently be seen on the series Tyler Perry’s Young Dylan. \nThe holiday musical event also features Tituss Burgess as Rooster Hannigan\, Megan Hilty as Lily St. Regis\, Harry Connick Jr. as Daddy Warbucks and Nicole Scherzinger as Grace. \nThe ensemble will feature Felice Kakaletris as Molly\, Cate Elefante as Kate\, Sophie Knapp as July\, Tessa Frascogna as Tessie\, Arwen Monzon-Sanders as Duffy and Audrey Cymone as Pepper as well as Wendi Bergamini\, Jadaya Bivins\, Brittany Conigatti\, Ben Davis\, Zachary Downer\, Karla Garcia\, Kayla Goins\, Luke Hawkins\, Christopher Hernandez\, Afra Hines\, Trinity Inay\, Jeff Kready\, McKenzie Kurtz\, Jenny Laroche\, Brandt Martinez\, Morgan Marcell\, Liz McCartney\, Anastacia McCleskey\, Giana Rice\, Eliseo Roman\, Lily Tamburo\, Sherrod Tate\, Kennedy Thompson\, Tanairi Vazquez\, Jacob Keith Watson\, Alex Wong and Corde Young. \nStephen Oremus\, two-time Grammy- and Tony-winning music supervisor and orchestrator\, will head the music department for Annie Live! as he did for The Wiz Live. His blockbuster credits include Wicked\, Frozen\, The Book of Mormon and Kinky Boots. \nThe live event is being produced by Chloe Productions.
URL:https://broadwayhereandthere.com/event/annie-nbc-television/
CATEGORIES:All,Broadway,Movies,Performing Arts,Television
ATTACH;FMTTYPE=image/jpeg:https://broadwayhereandthere.com/wp-content/uploads/2021/11/fanfarecafe_annie_live_nbc_2021.jpg
END:VEVENT
END:VCALENDAR